BEGIN:VCALENDAR
VERSION:2.0
PRODID:-//hacksw/handcal//NONSGML v1.0//EN
CALSCALE:GREGORIAN
BEGIN:VEVENT
SUMMARY:Extern: Frauen machen Druck- Kunstblüten Leipzig
DTSTART:20260715T220000Z
UID:wpbe_8684
DTEND:20260907T220000Z
DESCRIPTION:in der FRAKU Leipzig
URL;VALUE=URI:https://www.kreative-werkstatt.de/wpbe_events/extern-frauen-machen-druck-kunstblueten-leipzig/
DTSTAMP:20260425T163324Z
END:VEVENT
END:VCALENDAR