BEGIN:VCALENDAR
VERSION:2.0
PRODID:-//hacksw/handcal//NONSGML v1.0//EN
CALSCALE:GREGORIAN
BEGIN:VEVENT
SUMMARY:Galvano Kunsthof
DTSTART:20230603T080000Z
UID:wpbe_7274
DTEND:20230603T160000Z
DESCRIPTION:Schlüssel Erlebnis Kunst
URL;VALUE=URI:https://www.kreative-werkstatt.de/wpbe_events/galvanokunsthof-2/
DTSTAMP:20260426T023156Z
END:VEVENT
END:VCALENDAR