BEGIN:VCALENDAR
VERSION:2.0
PRODID:-//hacksw/handcal//NONSGML v1.0//EN
CALSCALE:GREGORIAN
BEGIN:VEVENT
SUMMARY:Mal- und Zeichenwerkstatt für Kinder (6-14 Jahre)
DTSTART:20220920T133000Z
UID:wpbe_6543
DTEND:20220920T153000Z
URL;VALUE=URI:https://www.kreative-werkstatt.de/wpbe_events/mal-und-zeichenwerkstatt-fuer-kinder-6-14-jahre-15/
DTSTAMP:20260426T004508Z
END:VEVENT
END:VCALENDAR