BEGIN:VCALENDAR
VERSION:2.0
PRODID:-//hacksw/handcal//NONSGML v1.0//EN
CALSCALE:GREGORIAN
BEGIN:VEVENT
SUMMARY:Pecha Kucha
DTSTART:20231018T180000Z
UID:wpbe_7289
DTEND:20231018T193000Z
DESCRIPTION:offene Bühne für Vernetzung und Inspiration
URL;VALUE=URI:https://www.kreative-werkstatt.de/wpbe_events/pecha-kucha-4/
DTSTAMP:20260426T004714Z
END:VEVENT
END:VCALENDAR