BEGIN:VCALENDAR
VERSION:2.0
PRODID:-//hacksw/handcal//NONSGML v1.0//EN
CALSCALE:GREGORIAN
BEGIN:VEVENT
SUMMARY:Portrait\, Zeichnen nach Modell
DTSTART:20220308T090000Z
UID:wpbe_5937
DTEND:20220308T110000Z
URL;VALUE=URI:https://www.kreative-werkstatt.de/wpbe_events/portrait-zeichnen-nach-modell-17/
DTSTAMP:20260426T030941Z
END:VEVENT
END:VCALENDAR