BEGIN:VCALENDAR
VERSION:2.0
PRODID:-//hacksw/handcal//NONSGML v1.0//EN
CALSCALE:GREGORIAN
BEGIN:VEVENT
SUMMARY:Portrait\, Zeichnen nach Modell
DTSTART:20220531T080000Z
UID:wpbe_6334
DTEND:20220531T100000Z
URL;VALUE=URI:https://www.kreative-werkstatt.de/wpbe_events/portrait-zeichnen-nach-modell-23/
DTSTAMP:20260425T173336Z
END:VEVENT
END:VCALENDAR