BEGIN:VCALENDAR
VERSION:2.0
PRODID:-//hacksw/handcal//NONSGML v1.0//EN
CALSCALE:GREGORIAN
BEGIN:VEVENT
SUMMARY:Experimente mit Keramik Glasuren
DTSTART:20260503T100000Z
UID:wpbe_8370
DTEND:20260503T120000Z
DESCRIPTION:verschiedene Stile und Techniken
URL;VALUE=URI:https://www.kreative-werkstatt.de/wpbe_offers/experimente-mit-keramik-glasuren-2/
DTSTAMP:20260425T181235Z
END:VEVENT
END:VCALENDAR