BEGIN:VCALENDAR
VERSION:2.0
PRODID:-//hacksw/handcal//NONSGML v1.0//EN
CALSCALE:GREGORIAN
BEGIN:VEVENT
SUMMARY:Experimente mit Keramik Glasuren
DTSTART:20260607T100000Z
UID:wpbe_8374
DTEND:20260607T120000Z
DESCRIPTION:verschiedene Stile und Techniken
URL;VALUE=URI:https://www.kreative-werkstatt.de/wpbe_offers/experimente-mit-keramik-glasuren-3/
DTSTAMP:20260425T181149Z
END:VEVENT
END:VCALENDAR