BEGIN:VCALENDAR
VERSION:2.0
PRODID:-//hacksw/handcal//NONSGML v1.0//EN
CALSCALE:GREGORIAN
BEGIN:VEVENT
SUMMARY:Workshop Monotypie
DTSTART:20250322T090000Z
UID:wpbe_6516
DTEND:20250322T130000Z
DESCRIPTION:Jeder Druck ein Unikat
URL;VALUE=URI:https://www.kreative-werkstatt.de/wpbe_offers/workshop-monotypie-3/
DTSTAMP:20260426T031007Z
END:VEVENT
END:VCALENDAR